BEGIN:VCALENDAR
VERSION:2.0
PRODID:-//wp-events-plugin.com//7.2.3.1//EN
TZID:Europe/Berlin
X-WR-TIMEZONE:Europe/Berlin
BEGIN:VEVENT
UID:182@flohmarkt-sachsen.de
DTSTART;TZID=Europe/Berlin:20261121T090000
DTEND;TZID=Europe/Berlin:20261121T150000
DTSTAMP:20251111T140824Z
URL:https://flohmarkt-sachsen.de/markttermine/elbeflohmarkt-copy-2026-11-2
 1/
SUMMARY:Elbeflohmarkt
DESCRIPTION:Marktzeit: 9 bis 15 Uhr\nAufbau: ab 7 Uhr bis 8.30 Uhr\n\nParke
 n:\n\n 	kostenfreier Parkplatz gleich auf der anderen Elbseite an der Wiga
 rdstra&szlig;e (neben Staatskanzlei &ndash; Einfahrtsh&ouml;he max. 2.20 Meter)\n 	Auto
 s d&uuml;rfen zum Be- und Entladen auf den Platz fahren\n\nStandgeb&uuml;hr:\n\n 	
 1&ndash;2m &ndash; 20&euro;\n 	jeder weitere Meter + 10&euro;\n 	maximale Standl&auml;nge 30
 m\n 	Neu ab 2026: Standpl&auml;tze direkt an der Steinmauer im Schatten!\n\nWi
 chtige Hinweise:\n\n 	Besucher benutzen bitte die &ouml;ffentlichen Verkehrsmi
 ttel\n 	TOI&reg;-Toilettenkabinen stehen zur Verf&uuml;gung\n 	Hunde m&uuml;ssen ange
 leint bleiben\n
LOCATION:Elbufer unterhalb Albertbr&uuml;cke\, unterhalb der Albertbr&uuml;cke\, Zu
 fahrt &uuml;ber Terassenufer\, Dresden\, Sachsen\, 01307\, Deutschland
X-APPLE-STRUCTURED-LOCATION;VALUE=URI;X-ADDRESS=unterhalb der Albertbr&uuml;cke
 \, Zufahrt &uuml;ber Terassenufer\, Dresden\, Sachsen\, 01307\, Deutschland;X-
 APPLE-RADIUS=100;X-TITLE=Elbufer unterhalb Albertbr&uuml;cke:geo:0,0
END:VEVENT
BEGIN:VTIMEZONE
TZID:Europe/Berlin
X-LIC-LOCATION:Europe/Berlin
BEGIN:STANDARD
DTSTART:20261025T020000
TZOFFSETFROM:+0200
TZOFFSETTO:+0100
TZNAME:CET
END:STANDARD
END:VTIMEZONE
END:VCALENDAR